BEGIN:VCALENDAR
VERSION:2.0
PRODID:-//AlbertHo.dev - ECPv6.15.20//NONSGML v1.0//EN
CALSCALE:GREGORIAN
METHOD:PUBLISH
X-ORIGINAL-URL:https://albertho.dev
X-WR-CALDESC:Events for AlbertHo.dev
REFRESH-INTERVAL;VALUE=DURATION:PT1H
X-Robots-Tag:noindex
X-PUBLISHED-TTL:PT1H
BEGIN:VTIMEZONE
TZID:UTC
BEGIN:STANDARD
TZOFFSETFROM:+0000
TZOFFSETTO:+0000
TZNAME:UTC
DTSTART:20230101T000000
END:STANDARD
END:VTIMEZONE
BEGIN:VEVENT
DTSTART;VALUE=DATE:20240514
DTEND;VALUE=DATE:20240515
DTSTAMP:20260424T102322
CREATED:20240518T063247Z
LAST-MODIFIED:20240518T063247Z
UID:697-1715644800-1715731199@albertho.dev
SUMMARY:Google I/O 2024
DESCRIPTION:Google I/O\, or simply I/O\, is an annual developer conference held by Google in Mountain View\, California. \nWatch the entire conference here.
URL:https://albertho.dev/event/google-i-o-2024/
CATEGORIES:Web
END:VEVENT
END:VCALENDAR