BEGIN:VCALENDAR
VERSION:2.0
PRODID:-//AlbertHo.dev - ECPv6.15.20//NONSGML v1.0//EN
CALSCALE:GREGORIAN
METHOD:PUBLISH
X-ORIGINAL-URL:https://albertho.dev
X-WR-CALDESC:Events for AlbertHo.dev
REFRESH-INTERVAL;VALUE=DURATION:PT1H
X-Robots-Tag:noindex
X-PUBLISHED-TTL:PT1H
BEGIN:VTIMEZONE
TZID:UTC
BEGIN:STANDARD
TZOFFSETFROM:+0000
TZOFFSETTO:+0000
TZNAME:UTC
DTSTART:20230101T000000
END:STANDARD
END:VTIMEZONE
BEGIN:VEVENT
DTSTART;VALUE=DATE:20251117
DTEND;VALUE=DATE:20251120
DTSTAMP:20260422T141637
CREATED:20250609T054328Z
LAST-MODIFIED:20250609T054715Z
UID:980-1763337600-1763596799@albertho.dev
SUMMARY:DrupalCon - Nara\, Japan 2025
DESCRIPTION:DrupalCon returns to Asia for 2025 in Nara\, Japan — a city renowned for its ancient temples\, friendly deer\, and perfect blend of tradition and technology! We can’t wait to welcome you to this unforgettable experience where historic culture meets digital innovation. \nThis one-of-a-kind DrupalCon event is brought to you by Drupal Asia\, in partnership with the Drupal Association and the Linux Australia Council. To stay up to date with all the latest event news and information\, follow Drupal Asia on LinkedIn\, Mastodon\, Facebook\, or Instagram.
URL:https://albertho.dev/event/drupalcon-nara-japan-2025/
LOCATION:OR
CATEGORIES:Conference,Drupal,Web Development
END:VEVENT
BEGIN:VEVENT
DTSTART;VALUE=DATE:20251018
DTEND;VALUE=DATE:20251020
DTSTAMP:20260422T141637
CREATED:20250612T021305Z
LAST-MODIFIED:20250612T021305Z
UID:983-1760745600-1760918399@albertho.dev
SUMMARY:The Pacific Northwest Drupal Summit  2025
DESCRIPTION:The Pacific Northwest Drupal Summit is a regional conference that celebrates the Drupal open-source community in the Pacific Northwest. The event features a rich program of sessions\, training\, and networking opportunities for developers\, designers\, website builders\, and project managers. Attendees can expect a diverse range of topics\, from site building and theming to project management and custom development. \nWe are excited to host the 2025 event at a brand new location: the McMenamins Edgefield Hotel in Troutdale\, Oregon. This 74-acre property is located 15 minutes outside of Portland and offers many amenities such as a soaking pool\, gardens\, golf course\, brewery\, fire pits\, restaurants\, and more.
URL:https://albertho.dev/event/the-pacific-northwest-drupal-summit-2025/
LOCATION:McMenamins Edgefield Hotel\, McMenamins Edgefield\, 2126 SW Halsey St\, Troutdale\, OR\, 97060\, United States
CATEGORIES:Conference,Drupal,Web Development
END:VEVENT
BEGIN:VEVENT
DTSTART;VALUE=DATE:20251014
DTEND;VALUE=DATE:20251018
DTSTAMP:20260422T141637
CREATED:20250609T054134Z
LAST-MODIFIED:20250609T054822Z
UID:979-1760400000-1760745599@albertho.dev
SUMMARY:DrupalCon Vienna 2025
DESCRIPTION:Register for DrupalCon Vienna 2025! \nJoin the Drupal community from 14–17 October 2025 in Vienna\, Austria\, for Europe’s biggest Drupal event! Whether you’re a developer\, designer\, content strategist\, marketer\, or business leader\, DrupalCon offers inspiring sessions\, hands-on workshops\, and valuable networking opportunities to help you grow. \nSecure your ticket to access insightful sessions\, BOFs\, keynotes\, the exhibition area\, contribution events\, mentoring\, and exciting social gatherings! \nRegister now
URL:https://albertho.dev/event/drupalcon-vienna-2025/
LOCATION:OR
CATEGORIES:Conference,Drupal,Web Development
END:VEVENT
BEGIN:VEVENT
DTSTART;VALUE=DATE:20250324
DTEND;VALUE=DATE:20250328
DTSTAMP:20260422T141637
CREATED:20240518T065121Z
LAST-MODIFIED:20240518T065121Z
UID:703-1742774400-1743119999@albertho.dev
SUMMARY:DrupalCon Atlanta 2025
DESCRIPTION:Learn about best practices in site building\, web development\, devOps\, U/X and more at the annual Drupal Conference in Europe. \nVideo playlist will be available here shortly after the event.
URL:https://albertho.dev/event/drupalcon-atlanta-2025/
LOCATION:OR
CATEGORIES:Drupal
END:VEVENT
BEGIN:VEVENT
DTSTART;VALUE=DATE:20241209
DTEND;VALUE=DATE:20241212
DTSTAMP:20260422T141637
CREATED:20240518T202232Z
LAST-MODIFIED:20240523T033806Z
UID:707-1733702400-1733961599@albertho.dev
SUMMARY:DrupalCon Singapore 2024
DESCRIPTION:DrupalCon returns to Asia in November 2024 with DrupalCon Singapore. Experience 4 days of amazing Drupal content\, training\, contribution\, networking\, and the very first DrupalCon Splash Awards! Come join us as we promote Drupal across all of Asia with this incredible event. \n\n\n  \n\n\n\n\n\n\nCheck here for the video playlist as soon as it’s available.
URL:https://albertho.dev/event/drupalcon-singapore-2024/
LOCATION:OR
CATEGORIES:Drupal
END:VEVENT
BEGIN:VEVENT
DTSTART;VALUE=DATE:20240924
DTEND;VALUE=DATE:20240928
DTSTAMP:20260422T141637
CREATED:20240518T062033Z
LAST-MODIFIED:20240518T062741Z
UID:694-1727136000-1727481599@albertho.dev
SUMMARY:DrupalCon Barcelona 2024
DESCRIPTION:Learn about best practices in site building\, web development\, devOps\, U/X and more at the annual Drupal Conference in Europe. \nVideo playlist will be available here shortly after the event. \n 
URL:https://albertho.dev/event/drupalcon-barcelona-2024/
LOCATION:OR
CATEGORIES:Drupal
END:VEVENT
BEGIN:VEVENT
DTSTART;VALUE=DATE:20240506
DTEND;VALUE=DATE:20240510
DTSTAMP:20260422T141637
CREATED:20240501T050845Z
LAST-MODIFIED:20240518T062820Z
UID:690-1714953600-1715299199@albertho.dev
SUMMARY:DrupalCon Portland 2024
DESCRIPTION:Learn about best practices in site building\, web development\, devOps\, U/X and more at the annual Drupal Conference in North America. \nWatch the full playlist here. \n 
URL:https://albertho.dev/event/drupalcon-portland-2024/
LOCATION:Oregon Convention Center\, Portland\, OR\, United States
CATEGORIES:Drupal
END:VEVENT
END:VCALENDAR