BEGIN:VCALENDAR
VERSION:2.0
PRODID:-//AlbertHo.dev - ECPv6.15.20//NONSGML v1.0//EN
CALSCALE:GREGORIAN
METHOD:PUBLISH
X-ORIGINAL-URL:https://albertho.dev
X-WR-CALDESC:Events for AlbertHo.dev
REFRESH-INTERVAL;VALUE=DURATION:PT1H
X-Robots-Tag:noindex
X-PUBLISHED-TTL:PT1H
BEGIN:VTIMEZONE
TZID:UTC
BEGIN:STANDARD
TZOFFSETFROM:+0000
TZOFFSETTO:+0000
TZNAME:UTC
DTSTART:20240101T000000
END:STANDARD
END:VTIMEZONE
BEGIN:VTIMEZONE
TZID:America/Los_Angeles
BEGIN:DAYLIGHT
TZOFFSETFROM:-0800
TZOFFSETTO:-0700
TZNAME:PDT
DTSTART:20240310T100000
END:DAYLIGHT
BEGIN:STANDARD
TZOFFSETFROM:-0700
TZOFFSETTO:-0800
TZNAME:PST
DTSTART:20241103T090000
END:STANDARD
BEGIN:DAYLIGHT
TZOFFSETFROM:-0800
TZOFFSETTO:-0700
TZNAME:PDT
DTSTART:20250309T100000
END:DAYLIGHT
BEGIN:STANDARD
TZOFFSETFROM:-0700
TZOFFSETTO:-0800
TZNAME:PST
DTSTART:20251102T090000
END:STANDARD
BEGIN:DAYLIGHT
TZOFFSETFROM:-0800
TZOFFSETTO:-0700
TZNAME:PDT
DTSTART:20260308T100000
END:DAYLIGHT
BEGIN:STANDARD
TZOFFSETFROM:-0700
TZOFFSETTO:-0800
TZNAME:PST
DTSTART:20261101T090000
END:STANDARD
END:VTIMEZONE
BEGIN:VEVENT
DTSTART;VALUE=DATE:20251117
DTEND;VALUE=DATE:20251120
DTSTAMP:20260422T121926
CREATED:20250609T054328Z
LAST-MODIFIED:20250609T054715Z
UID:980-1763337600-1763596799@albertho.dev
SUMMARY:DrupalCon - Nara\, Japan 2025
DESCRIPTION:DrupalCon returns to Asia for 2025 in Nara\, Japan — a city renowned for its ancient temples\, friendly deer\, and perfect blend of tradition and technology! We can’t wait to welcome you to this unforgettable experience where historic culture meets digital innovation. \nThis one-of-a-kind DrupalCon event is brought to you by Drupal Asia\, in partnership with the Drupal Association and the Linux Australia Council. To stay up to date with all the latest event news and information\, follow Drupal Asia on LinkedIn\, Mastodon\, Facebook\, or Instagram.
URL:https://albertho.dev/event/drupalcon-nara-japan-2025/
LOCATION:OR
CATEGORIES:Conference,Drupal,Web Development
END:VEVENT
BEGIN:VEVENT
DTSTART;VALUE=DATE:20251018
DTEND;VALUE=DATE:20251020
DTSTAMP:20260422T121926
CREATED:20250612T021305Z
LAST-MODIFIED:20250612T021305Z
UID:983-1760745600-1760918399@albertho.dev
SUMMARY:The Pacific Northwest Drupal Summit  2025
DESCRIPTION:The Pacific Northwest Drupal Summit is a regional conference that celebrates the Drupal open-source community in the Pacific Northwest. The event features a rich program of sessions\, training\, and networking opportunities for developers\, designers\, website builders\, and project managers. Attendees can expect a diverse range of topics\, from site building and theming to project management and custom development. \nWe are excited to host the 2025 event at a brand new location: the McMenamins Edgefield Hotel in Troutdale\, Oregon. This 74-acre property is located 15 minutes outside of Portland and offers many amenities such as a soaking pool\, gardens\, golf course\, brewery\, fire pits\, restaurants\, and more.
URL:https://albertho.dev/event/the-pacific-northwest-drupal-summit-2025/
LOCATION:McMenamins Edgefield Hotel\, McMenamins Edgefield\, 2126 SW Halsey St\, Troutdale\, OR\, 97060\, United States
CATEGORIES:Conference,Drupal,Web Development
END:VEVENT
BEGIN:VEVENT
DTSTART;VALUE=DATE:20251014
DTEND;VALUE=DATE:20251018
DTSTAMP:20260422T121926
CREATED:20250609T054134Z
LAST-MODIFIED:20250609T054822Z
UID:979-1760400000-1760745599@albertho.dev
SUMMARY:DrupalCon Vienna 2025
DESCRIPTION:Register for DrupalCon Vienna 2025! \nJoin the Drupal community from 14–17 October 2025 in Vienna\, Austria\, for Europe’s biggest Drupal event! Whether you’re a developer\, designer\, content strategist\, marketer\, or business leader\, DrupalCon offers inspiring sessions\, hands-on workshops\, and valuable networking opportunities to help you grow. \nSecure your ticket to access insightful sessions\, BOFs\, keynotes\, the exhibition area\, contribution events\, mentoring\, and exciting social gatherings! \nRegister now
URL:https://albertho.dev/event/drupalcon-vienna-2025/
LOCATION:OR
CATEGORIES:Conference,Drupal,Web Development
END:VEVENT
BEGIN:VEVENT
DTSTART;VALUE=DATE:20250826
DTEND;VALUE=DATE:20250830
DTSTAMP:20260422T121926
CREATED:20250115T181854Z
LAST-MODIFIED:20250609T055253Z
UID:957-1756166400-1756511999@albertho.dev
SUMMARY:WordCamp USA 2025
DESCRIPTION:WordCamp US 2025 is officially on the calendar! \nLocation\nOregon Convention Center\n777 NE Martin Luther King Jr Blvd\nPortland\, Oregon\, USA \nSchedule\nWordCamp US 2025 will take place August 26-29\, 2025 \nHotel Room Block\nWordCamp US has a room block at the Hyatt Regency Portland\, directly across the street from the Oregon Convention Center.
URL:https://albertho.dev/event/wordcamp-usa-2025/
LOCATION:Oregon Convention Center\, Portland\, OR\, United States
CATEGORIES:Conference,Web Development,WordPress
END:VEVENT
END:VCALENDAR